BEGIN:VCALENDAR
METHOD:PUBLISH
PRODID:-//doubleknot.com//CalenderEvent MIMEDIR//EN
VERSION:2.0
BEGIN:VEVENT
UID:3133847-20260510T070000Z-20260511T070000Z@doubleknot.com
CREATED:20260127T174009Z
LAST-MODIFIED:20260127T174009Z
DTSTAMP:20260423T235212Z
DTSTART;VALUE=DATE:20260510
DTEND;VALUE=DATE:20260511
LOCATION:US
CATEGORIES:
DESCRIPTION:Celebrate your Scouting mom or Scout leader with an amazing gift from the Scout Shop. Visit either the Findlay Scout Shop at 2100 Broad Ave., Findlay, or the Lima Scout Shop at 752 W. Robb Ave., Lima, today! \n 
SUMMARY:Mother's Day
PRIORITY:5
BEGIN:VALARM
TRIGGER:PT15M
ACTION:DISPLAY
DESCRIPTION:Reminder
PRIORITY:5
END:VALARM
END:VEVENT
END:VCALENDAR
