BEGIN:VCALENDAR
METHOD:PUBLISH
PRODID:-//doubleknot.com//CalenderEvent MIMEDIR//EN
VERSION:2.0
BEGIN:VEVENT
UID:3096516-20260511T070000Z-20260514T070000Z@doubleknot.com
CREATED:20250219T162255Z
LAST-MODIFIED:20250219T162255Z
DTSTAMP:20260426T032912Z
DTSTART;VALUE=DATE:20260511
DTEND;VALUE=DATE:20260514
LOCATION:US
CATEGORIES:
SUMMARY:National Meeting
PRIORITY:5
BEGIN:VALARM
TRIGGER:PT15M
ACTION:DISPLAY
DESCRIPTION:Reminder
PRIORITY:5
END:VALARM
END:VEVENT
END:VCALENDAR
